BEGIN:VCALENDAR
VERSION:2.0
PRODID:-//ChamberMaster//Event Calendar 2.0//EN
METHOD:PUBLISH
X-PUBLISHED-TTL:P1H
REFRESH-INTERVAL:P1H
CALSCALE:GREGORIAN
BEGIN:VTIMEZONE
TZID:America/Phoenix
BEGIN:DAYLIGHT
DTSTART:20070311T020000
TZOFFSETFROM:-0700
TZOFFSETTO:-0700
TZNAME:(UTC-07:00) Arizona
END:DAYLIGHT
BEGIN:STANDARD
DTSTART:20071104T020000
TZOFFSETFROM:-0700
TZOFFSETTO:-0700
TZNAME:(UTC-07:00) Arizona
END:STANDARD
END:VTIMEZONE
BEGIN:VEVENT
DTSTART;TZID=America/Phoenix:20260521T140000
DTEND;TZID=America/Phoenix:20260521T150000
X-MICROSOFT-CDO-ALLDAYEVENT:FALSE
SUMMARY:Governmental Affairs & RAPAC Committee Meeting
DESCRIPTION:
X-ALT-DESC;FMTTYPE=text/html:
LOCATION:1923 Kino Ave Kingman AZ 86401
UID:e.2478.1446225
SEQUENCE:3
DTSTAMP:20260424T000516Z
URL:https://members.kgvar.com/calendar/Details/governmental-affairs-rapac-committee-meeting-1712923?sourceTypeId=Hub
END:VEVENT
END:VCALENDAR
