BEGIN:VCALENDAR
VERSION:2.0
PRODID:-//ChamberMaster//Event Calendar 2.0//EN
METHOD:PUBLISH
X-PUBLISHED-TTL:P1H
REFRESH-INTERVAL:P1H
CALSCALE:GREGORIAN
BEGIN:VTIMEZONE
TZID:America/Phoenix
BEGIN:DAYLIGHT
DTSTART:20070311T020000
TZOFFSETFROM:-0700
TZOFFSETTO:-0700
TZNAME:(UTC-07:00) Arizona
END:DAYLIGHT
BEGIN:STANDARD
DTSTART:20071104T020000
TZOFFSETFROM:-0700
TZOFFSETTO:-0700
TZNAME:(UTC-07:00) Arizona
END:STANDARD
END:VTIMEZONE
BEGIN:VEVENT
DTSTART;TZID=America/Phoenix:20260528T090000
DTEND;TZID=America/Phoenix:20260528T100000
X-MICROSOFT-CDO-ALLDAYEVENT:FALSE
SUMMARY:KGVAR Board of Directors Meeting
DESCRIPTION:Come join us for our monthly Board of Directors Meeting! Each month our Board makes governing decisions\, informs membership of industry updates\, and much more. Attendance is available on Zoom\, or in person. Each month the Agenda is posted 5 business days prior to the meeting in the resource section of your member login (https://members.kgvar.com/MIC/Login ). If you have any questions or concerns for the board of directors to discuss please contact either the Association President or the KGVAR staff.
X-ALT-DESC;FMTTYPE=text/html:<!DOCTYPE html><html><head><title></title></head><body aria-disabled="false"><p>Come join us for our monthly Board of Directors Meeting!&nbsp\;</p><p>Each month our Board makes governing decisions\, informs membership of industry updates\, and much more. Attendance is available on Zoom\, or in person. Each month the Agenda is posted 5 business days prior to the meeting in the resource section of your member login (<a fr-original-style="" href="https://members.kgvar.com/MIC/Login" style="user-select: auto\;">https://members.kgvar.com/MIC/Login</a> ).&nbsp\;</p><p>If you have any questions or concerns for the board of directors to discuss please contact either the Association President or the KGVAR staff.&nbsp\;</p></body></html>
LOCATION:1923 Kino Ave Kingman AZ 86401
UID:e.2478.1443319
SEQUENCE:3
DTSTAMP:20260424T000955Z
URL:https://members.kgvar.com/calendar/Details/kgvar-board-of-directors-meeting-1709525?sourceTypeId=Hub
END:VEVENT
END:VCALENDAR
