BEGIN:VCALENDAR
VERSION:2.0
PRODID:-//ChamberMaster//Event Calendar 2.0//EN
METHOD:PUBLISH
X-PUBLISHED-TTL:P1H
REFRESH-INTERVAL:P1H
CALSCALE:GREGORIAN
BEGIN:VTIMEZONE
TZID:America/Phoenix
BEGIN:DAYLIGHT
DTSTART:20070311T020000
TZOFFSETFROM:-0700
TZOFFSETTO:-0700
TZNAME:(UTC-07:00) Arizona
END:DAYLIGHT
BEGIN:STANDARD
DTSTART:20071104T020000
TZOFFSETFROM:-0700
TZOFFSETTO:-0700
TZNAME:(UTC-07:00) Arizona
END:STANDARD
END:VTIMEZONE
BEGIN:VEVENT
DTSTART;VALUE=DATE:20260525
DTEND;VALUE=DATE:20260526
TRANSP:TRANSPARENT
X-MICROSOFT-CDO-ALLDAYEVENT:TRUE
SUMMARY:**Office Closed for Memorial Day**
DESCRIPTION:Office will be closed on Memorial Day
X-ALT-DESC;FMTTYPE=text/html:Office will be closed on Memorial Day
LOCATION:
UID:e.2478.1445759
SEQUENCE:3
DTSTAMP:20260424T000551Z
URL:https://members.kgvar.com/calendar/Details/office-closed-for-memorial-day-1712412?sourceTypeId=Hub
END:VEVENT
END:VCALENDAR
